BEGIN:VCALENDAR
VERSION:2.0
PRODID:-//PLPA.org - ECPv6.15.20//NONSGML v1.0//EN
CALSCALE:GREGORIAN
METHOD:PUBLISH
X-ORIGINAL-URL:https://plpa.org
X-WR-CALDESC:Events for PLPA.org
REFRESH-INTERVAL;VALUE=DURATION:PT1H
X-Robots-Tag:noindex
X-PUBLISHED-TTL:PT1H
BEGIN:VTIMEZONE
TZID:America/New_York
BEGIN:DAYLIGHT
TZOFFSETFROM:-0500
TZOFFSETTO:-0400
TZNAME:EDT
DTSTART:20250309T070000
END:DAYLIGHT
BEGIN:STANDARD
TZOFFSETFROM:-0400
TZOFFSETTO:-0500
TZNAME:EST
DTSTART:20251102T060000
END:STANDARD
BEGIN:DAYLIGHT
TZOFFSETFROM:-0500
TZOFFSETTO:-0400
TZNAME:EDT
DTSTART:20260308T070000
END:DAYLIGHT
BEGIN:STANDARD
TZOFFSETFROM:-0400
TZOFFSETTO:-0500
TZNAME:EST
DTSTART:20261101T060000
END:STANDARD
BEGIN:DAYLIGHT
TZOFFSETFROM:-0500
TZOFFSETTO:-0400
TZNAME:EDT
DTSTART:20270314T070000
END:DAYLIGHT
BEGIN:STANDARD
TZOFFSETFROM:-0400
TZOFFSETTO:-0500
TZNAME:EST
DTSTART:20271107T060000
END:STANDARD
END:VTIMEZONE
BEGIN:VEVENT
DTSTART;TZID=America/New_York:20260427T080000
DTEND;TZID=America/New_York:20260427T090000
DTSTAMP:20260423T101735
CREATED:20260412T163926Z
LAST-MODIFIED:20260412T164119Z
UID:4410-1777276800-1777280400@plpa.org
SUMMARY:Deposit Container Drive #1
DESCRIPTION:It’s a big help if you pre-sort your empties (glass\, plastic\, aluminum) — and PLEASE rinse them out! Also\, make sure your empties are out by the roadside by 8am. \n\n\n\n \n\n\n\nDue to the time of the year and lack of available volunteers\, we will not conduct a sort of the aggregate collection. \n\n\n\n \n\n\n\nBob Wilson bobwilsonnj@gmail.com
URL:https://plpa.org/event/deposit-container-drive-1/
END:VEVENT
BEGIN:VEVENT
DTSTART;TZID=America/New_York:20260509T100000
DTEND;TZID=America/New_York:20260509T120000
DTSTAMP:20260423T101735
CREATED:20260412T164355Z
LAST-MODIFIED:20260412T164357Z
UID:4412-1778320800-1778328000@plpa.org
SUMMARY:Buoy Prep – Volunteers Needed!
DESCRIPTION:It’s that time of year we’ve all been patiently waiting for. Of course\, I mean buoy prep day. This is when all the hazard buoys come out of their long winter hibernation\, and get spiffed up\, painted\, repaired and readied for another summer season on the lake helping keep everyone safe. \n\n\n\nAll of this doesn’t happen without the help of dedicated volunteers. Lots of tasks are available from helping and carrying\, sorting\, painting\, knot tying\, replacing anchors\, assembly of parts\, as well as supervisory roles with clipboards checking that all are present\, lined up in order and ready for deployment in the following week. No previous experience required. \n\n\n\n \n\n\n\nAll this “fun” takes place Saturday\, May 9th starting at 10:00 a.m. at the Marina lower barn and usually lasts about 2 hours. \n\n\n\nPlease come out and join us. Any questions feel free to contact me. \n\n\n\nThank you in advance for your help and cooperation. \n\n\n\nJohn Dackow \n\n\n\njdack.plpa@gmail.com \n\n\n\n518-858-0217
URL:https://plpa.org/event/buoy-prep-volunteers-needed/
END:VEVENT
BEGIN:VEVENT
DTSTART;TZID=America/New_York:20260518T080000
DTEND;TZID=America/New_York:20260518T170000
DTSTAMP:20260423T101735
CREATED:20260412T164655Z
LAST-MODIFIED:20260412T164657Z
UID:4414-1779091200-1779123600@plpa.org
SUMMARY:Buoy Installation
DESCRIPTION:This event is weather-dependent. The buoys and hazard markers will be placed in the lake. Due to the limited space on board the deployment boats\, volunteer crews will be decided on buoy prep day.
URL:https://plpa.org/event/buoy-installation-2/
END:VEVENT
BEGIN:VEVENT
DTSTART;TZID=America/New_York:20260526T080000
DTEND;TZID=America/New_York:20260526T103000
DTSTAMP:20260423T101735
CREATED:20260412T164831Z
LAST-MODIFIED:20260412T164833Z
UID:4416-1779782400-1779791400@plpa.org
SUMMARY:Deposit Container Drive # 2
DESCRIPTION:It’s a big help if you pre-sort your empties (glass\, plastic\, aluminum) — and PLEASE rinse them out! Make sure you have your empties out by 8am! \n\n\n\nWe can always use an extra pair of hands at the marina tent between 9-10:30 AM to help sort the empties and volunteers are always welcome. \n\n\n\nBob Wilson bobwilsonnj@gmail.com
URL:https://plpa.org/event/deposit-container-drive-2/
END:VEVENT
BEGIN:VEVENT
DTSTART;TZID=America/New_York:20260706T080000
DTEND;TZID=America/New_York:20260706T103000
DTSTAMP:20260423T101735
CREATED:20260412T165116Z
LAST-MODIFIED:20260412T165118Z
UID:4418-1783324800-1783333800@plpa.org
SUMMARY:Deposit Container Drive # 3
DESCRIPTION:Your deposit container bottles and cans out by the road by 8:00AM \n\n\n\nContainer sorting at the Marina Tent begins at 9:00 am \n\n\n\nIt’s a big help if you pre-sort your empties (glass\, plastic\, aluminum) — and PLEASE rinse them out! \n\n\n\nWe can always use an extra pair of hands at the marina tent between 9-10:30 AM to help sort the empties and volunteers are always welcome. \n\n\n\nBob Wilson bobwilsonnj@gmail.com
URL:https://plpa.org/event/deposit-container-drive-3/
END:VEVENT
BEGIN:VEVENT
DTSTART;TZID=America/New_York:20260803T080000
DTEND;TZID=America/New_York:20260803T103000
DTSTAMP:20260423T101735
CREATED:20260412T170043Z
LAST-MODIFIED:20260412T170046Z
UID:4420-1785744000-1785753000@plpa.org
SUMMARY:Deposit Container Drive #4
DESCRIPTION:Your deposit container bottles and cans out by the road by 8:00AM \n\n\n\nContainer sorting at the Marina Tent begins at 9:00 am \n\n\n\nIt’s a big help if you pre-sort your empties (glass\, plastic\, aluminum) — and PLEASE rinse them out! \n\n\n\nWe can always use an extra pair of hands at the marina tent between 9-10:30 AM to help sort the empties and volunteers are always welcome. \n\n\n\nBob Wilson bobwilsonnj@gmail.com
URL:https://plpa.org/event/deposit-container-drive-4/
END:VEVENT
BEGIN:VEVENT
DTSTART;TZID=America/New_York:20260908T080000
DTEND;TZID=America/New_York:20260908T103000
DTSTAMP:20260423T101735
CREATED:20260412T170306Z
LAST-MODIFIED:20260412T170308Z
UID:4422-1788854400-1788863400@plpa.org
SUMMARY:Container Drive #5
DESCRIPTION:Please have your deposit container bottles and cans out by the road by 8:00AM \n\n\n\nContainer sorting at the Marina Tent begins at 9:00 am \n\n\n\nIt’s a big help if you pre-sort your empties (glass\, plastic\, aluminum) — and PLEASE rinse them out! \n\n\n\nWe can always use an extra pair of hands at the marina tent between 9-10:30 AM to help sort the empties and volunteers are always welcome. \n\n\n\nBob Wilson bobwilsonnj@gmail.com
URL:https://plpa.org/event/container-drive-5-2/
END:VEVENT
BEGIN:VEVENT
DTSTART;TZID=America/New_York:20261013T080000
DTEND;TZID=America/New_York:20261013T103000
DTSTAMP:20260423T101735
CREATED:20260412T170430Z
LAST-MODIFIED:20260412T170431Z
UID:4424-1791878400-1791887400@plpa.org
SUMMARY:Deposit Container Drive #6
DESCRIPTION:Please have your deposit container bottles and cans out by the road by 8:00AM \n\n\n\nContainer sorting at the Marina Tent begins at 9:00 am \n\n\n\nIt’s a big help if you pre-sort your empties (glass\, plastic\, aluminum) — and PLEASE rinse them out! \n\n\n\nWe can always use an extra pair of hands at the marina tent between 9-10:30 AM to help sort the empties and volunteers are always welcome. \n\n\n\nBob Wilson bobwilsonnj@gmail.com
URL:https://plpa.org/event/deposit-container-drive-6/
END:VEVENT
BEGIN:VEVENT
DTSTART;TZID=America/New_York:20261015T100000
DTEND;TZID=America/New_York:20261015T120000
DTSTAMP:20260423T101735
CREATED:20260412T170556Z
LAST-MODIFIED:20260412T170557Z
UID:4426-1792058400-1792065600@plpa.org
SUMMARY:Buoy Removal
DESCRIPTION:The buoys and hazard markers will be removed from the lake and cleaned on shore. \n\n\n\nAdditional information will be provided closer to the date. \n\n\n\nJohn Dackow \n\n\n\njdack.plpa@gmail.com
URL:https://plpa.org/event/buoy-removal-2/
END:VEVENT
END:VCALENDAR